Workbook

Sheet 51_log return
A1: DATE | B1: PUDONG | C1: WUHAN | D1: HUAXIA | E1: MINSHENG | F1: BAOSHAN | G1: PLT | H1: CITIC | I1: MERCHANTS | J1: UTDNET | K1: TBEA | L1: SAIC | M1: JIANGXI | N1: GEMDALE | O1: ZHONGJIN | P1: MOUTAI | Q1: GOLDMINING | R1: CHENGDA | S1: GDPWR | T1: HAITONG | U1: YANGTZEPWR | V1: PINGAN | W1: VANKE | X1: MERCHANTS | Y1: INTLMAR | Z1: LINGNAN | AA1: ZTE | AB1: OSCHS | AC1: ZOOMLION | AD1: STRHLDG | AE1: BAIYAO | AF1: HONGYUAN | AG1: LUZHOU | AH1: JILIN | AI1: TONGLING | AJ1: GREE | AK1: HEBEIIRON | AL1: YANJING | AM1: AVIC | AN1: CHANGJIANG | AO1: QINGHAI | AP1: FAWCAR | AQ1: GUOAN | AR1: WULIANGYE | AS1: YUNNANCOPPER | AT1: SHUANGHUI | AU1: HENANCOAL | AV1: JIZHONG | AW1: TINCO | AX1: SHANXICOAL | AY1: HUALAN | AZ1: SUNING
A2: 38810 | B2: =LN('51 Stocks with Full data_price'!B3/'51 Stocks with Full data_price'!B2) -> 0 | C2: =LN('51 Stocks with Full data_price'!C3/'51 Stocks with Full data_price'!C2) -> 0 | D2: =LN('51 Stocks with Full data_price'!D3/'51 Stocks with Full data_price'!D2) -> 0 | E2: =LN('51 Stocks with Full data_price'!E3/'51 Stocks with Full data_price'!E2) -> 0.047856021 | F2: =LN('51 Stocks with Full data_price'!F3/'51 Stocks with Full data_price'!F2) -> 0.009478744 | G2: =LN('51 Stocks with Full data_price'!G3/'51 Stocks with Full data_price'!G2) -> 0.022930941 | H2: =LN('51 Stocks with Full data_price'!H3/'51 Stocks with Full data_price'!H2) -> 0.049914391 | I2: =LN('51 Stocks with Full data_price'!I3/'51 Stocks with Full data_price'!I2) -> 0.040474108 | ... AZ2: =LN('51 Stocks with Full data_price'!AZ3/'51 Stocks with Full data_price'!AZ2) -> 0
A3: 38811 | B3: =LN('51 Stocks with Full data_price'!B4/'51 Stocks with Full data_price'!B3) -> 0 | C3: =LN('51 Stocks with Full data_price'!C4/'51 Stocks with Full data_price'!C3) -> 0.0074906717 | D3: =LN('51 Stocks with Full data_price'!D4/'51 Stocks with Full data_price'!D3) -> 0 | E3: =LN('51 Stocks with Full data_price'!E4/'51 Stocks with Full data_price'!E3) -> 0.0093023927 | F3: =LN('51 Stocks with Full data_price'!F4/'51 Stocks with Full data_price'!F3) -> 0.0023557137 | G3: =LN('51 Stocks with Full data_price'!G4/'51 Stocks with Full data_price'!G3) -> -0.012674441 | H3: =LN('51 Stocks with Full data_price'!H4/'51 Stocks with Full data_price'!H3) -> 0.025879448 | I3: =LN('51 Stocks with Full data_price'!I4/'51 Stocks with Full data_price'!I3) -> 0.03083492 | ... AZ3: =LN('51 Stocks with Full data_price'!AZ4/'51 Stocks with Full data_price'!AZ3) -> 0.052798186
A4: 38812 | B4: =LN('51 Stocks with Full data_price'!B5/'51 Stocks with Full data_price'!B4) -> 0 | C4: =LN('51 Stocks with Full data_price'!C5/'51 Stocks with Full data_price'!C4) -> 0 | D4: =LN('51 Stocks with Full data_price'!D5/'51 Stocks with Full data_price'!D4) -> 0 | E4: =LN('51 Stocks with Full data_price'!E5/'51 Stocks with Full data_price'!E4) -> 0.0046189459 | F4: =LN('51 Stocks with Full data_price'!F5/'51 Stocks with Full data_price'!F4) -> 0.0070340267 | G4: =LN('51 Stocks with Full data_price'!G5/'51 Stocks with Full data_price'!G4) -> 0.015190165 | H4: =LN('51 Stocks with Full data_price'!H5/'51 Stocks with Full data_price'!H4) -> -0.011009286 | I4: =LN('51 Stocks with Full data_price'!I5/'51 Stocks with Full data_price'!I4) -> 0 | ... AZ4: =LN('51 Stocks with Full data_price'!AZ5/'51 Stocks with Full data_price'!AZ4) -> 0.011363759
A5: 38813 | B5: =LN('51 Stocks with Full data_price'!B6/'51 Stocks with Full data_price'!B5) -> 0 | C5: =LN('51 Stocks with Full data_price'!C6/'51 Stocks with Full data_price'!C5) -> -0.011257155 | D5: =LN('51 Stocks with Full data_price'!D6/'51 Stocks with Full data_price'!D5) -> -0.05299253 | E5: =LN('51 Stocks with Full data_price'!E6/'51 Stocks with Full data_price'!E5) -> -0.023311079 | F5: =LN('51 Stocks with Full data_price'!F6/'51 Stocks with Full data_price'!F5) -> -0.0070340267 | G5: =LN('51 Stocks with Full data_price'!G6/'51 Stocks with Full data_price'!G5) -> 0 | H5: =LN('51 Stocks with Full data_price'!H6/'51 Stocks with Full data_price'!H5) -> 0.0036832454 | I5: =LN('51 Stocks with Full data_price'!I6/'51 Stocks with Full data_price'!I5) -> -0.014271394 | ... AZ5: =LN('51 Stocks with Full data_price'!AZ6/'51 Stocks with Full data_price'!AZ5) -> 0
A6: 38814 | B6: =LN('51 Stocks with Full data_price'!B7/'51 Stocks with Full data_price'!B6) -> 0 | C6: =LN('51 Stocks with Full data_price'!C7/'51 Stocks with Full data_price'!C6) -> -0.0037807228 | D6: =LN('51 Stocks with Full data_price'!D7/'51 Stocks with Full data_price'!D6) -> -0.020619287 | E6: =LN('51 Stocks with Full data_price'!E7/'51 Stocks with Full data_price'!E6) -> -0.009478744 | F6: =LN('51 Stocks with Full data_price'!F7/'51 Stocks with Full data_price'!F6) -> -0.0070838549 | G6: =LN('51 Stocks with Full data_price'!G7/'51 Stocks with Full data_price'!G6) -> -0.0075662404 | H6: =LN('51 Stocks with Full data_price'!H7/'51 Stocks with Full data_price'!H6) -> -0.0073801073 | I6: =LN('51 Stocks with Full data_price'!I7/'51 Stocks with Full data_price'!I6) -> -0.022846269 | ... AZ6: =LN('51 Stocks with Full data_price'!AZ7/'51 Stocks with Full data_price'!AZ6) -> 0
A7: 38817 | B7: =LN('51 Stocks with Full data_price'!B8/'51 Stocks with Full data_price'!B7) -> 0 | C7: =LN('51 Stocks with Full data_price'!C8/'51 Stocks with Full data_price'!C7) -> 0.011299555 | D7: =LN('51 Stocks with Full data_price'!D8/'51 Stocks with Full data_price'!D7) -> 0.013793322 | E7: =LN('51 Stocks with Full data_price'!E8/'51 Stocks with Full data_price'!E7) -> 0.032789823 | F7: =LN('51 Stocks with Full data_price'!F8/'51 Stocks with Full data_price'!F7) -> 0.0070838549 | G7: =LN('51 Stocks with Full data_price'!G8/'51 Stocks with Full data_price'!G7) -> -0.005076153 | H7: =LN('51 Stocks with Full data_price'!H8/'51 Stocks with Full data_price'!H7) -> 0.036367644 | I7: =LN('51 Stocks with Full data_price'!I8/'51 Stocks with Full data_price'!I7) -> 0.02079077 | ... AZ7: =LN('51 Stocks with Full data_price'!AZ8/'51 Stocks with Full data_price'!AZ7) -> 0.0056338177
A8: 38818 | B8: =LN('51 Stocks with Full data_price'!B9/'51 Stocks with Full data_price'!B8) -> 0 | C8: =LN('51 Stocks with Full data_price'!C9/'51 Stocks with Full data_price'!C8) -> 0.011173301 | D8: =LN('51 Stocks with Full data_price'!D9/'51 Stocks with Full data_price'!D8) -> 0 | E8: =LN('51 Stocks with Full data_price'!E9/'51 Stocks with Full data_price'!E8) -> 0 | F8: =LN('51 Stocks with Full data_price'!F9/'51 Stocks with Full data_price'!F8) -> 0.0070340267 | G8: =LN('51 Stocks with Full data_price'!G9/'51 Stocks with Full data_price'!G8) -> 0 | H8: =LN('51 Stocks with Full data_price'!H9/'51 Stocks with Full data_price'!H8) -> 0.0071174678 | I8: =LN('51 Stocks with Full data_price'!I9/'51 Stocks with Full data_price'!I8) -> -0.0061919702 | ... AZ8: =LN('51 Stocks with Full data_price'!AZ9/'51 Stocks with Full data_price'!AZ8) -> 0
A9: 38819 | B9: =LN('51 Stocks with Full data_price'!B10/'51 Stocks with Full data_price'!B9) -> 0 | C9: =LN('51 Stocks with Full data_price'!C10/'51 Stocks with Full data_price'!C9) -> -0.011173301 | D9: =LN('51 Stocks with Full data_price'!D10/'51 Stocks with Full data_price'!D9) -> -0.025434897 | E9: =LN('51 Stocks with Full data_price'!E10/'51 Stocks with Full data_price'!E9) -> 0 | F9: =LN('51 Stocks with Full data_price'!F10/'51 Stocks with Full data_price'!F9) -> -0.0046838493 | G9: =LN('51 Stocks with Full data_price'!G10/'51 Stocks with Full data_price'!G9) -> 0.0076045994 | H9: =LN('51 Stocks with Full data_price'!H10/'51 Stocks with Full data_price'!H9) -> -0.032435276 | I9: =LN('51 Stocks with Full data_price'!I10/'51 Stocks with Full data_price'!I9) -> -0.0062305498 | ... AZ9: =LN('51 Stocks with Full data_price'!AZ10/'51 Stocks with Full data_price'!AZ9) -> -0.011299555
A10: 38820 | B10: =LN('51 Stocks with Full data_price'!B11/'51 Stocks with Full data_price'!B10) -> 0 | C10: =LN('51 Stocks with Full data_price'!C11/'51 Stocks with Full data_price'!C10) -> 0.011173301 | D10: =LN('51 Stocks with Full data_price'!D11/'51 Stocks with Full data_price'!D10) -> -0.021302581 | E10: =LN('51 Stocks with Full data_price'!E11/'51 Stocks with Full data_price'!E10) -> -0.032789823 | F10: =LN('51 Stocks with Full data_price'!F11/'51 Stocks with Full data_price'!F10) -> -0.0023501773 | G10: =LN('51 Stocks with Full data_price'!G11/'51 Stocks with Full data_price'!G10) -> -0.010152371 | H10: =LN('51 Stocks with Full data_price'!H11/'51 Stocks with Full data_price'!H10) -> -0.048790164 | I10: =LN('51 Stocks with Full data_price'!I11/'51 Stocks with Full data_price'!I10) -> -0.02960047 | ... AZ10: =LN('51 Stocks with Full data_price'!AZ11/'51 Stocks with Full data_price'!AZ10) -> -0.046520016
A11: 38821 | B11: =LN('51 Stocks with Full data_price'!B12/'51 Stocks with Full data_price'!B11) -> 0 | C11: =LN('51 Stocks with Full data_price'!C12/'51 Stocks with Full data_price'!C11) -> 0.036367644 | D11: =LN('51 Stocks with Full data_price'!D12/'51 Stocks with Full data_price'!D11) -> 0.039864599 | E11: =LN('51 Stocks with Full data_price'!E12/'51 Stocks with Full data_price'!E11) -> 0.055569851 | F11: =LN('51 Stocks with Full data_price'!F12/'51 Stocks with Full data_price'!F11) -> 0.025553074 | G11: =LN('51 Stocks with Full data_price'!G12/'51 Stocks with Full data_price'!G11) -> 0.015190165 | H11: =LN('51 Stocks with Full data_price'!H12/'51 Stocks with Full data_price'!H11) -> 0.09531018 | I11: =LN('51 Stocks with Full data_price'!I12/'51 Stocks with Full data_price'!I11) -> 0.023330857 | ... AZ11: =LN('51 Stocks with Full data_price'!AZ12/'51 Stocks with Full data_price'!AZ11) -> 0.017699577
A12: 38824 | B12: =LN('51 Stocks with Full data_price'!B13/'51 Stocks with Full data_price'!B12) -> 0 | C12: =LN('51 Stocks with Full data_price'!C13/'51 Stocks with Full data_price'!C12) -> -0.0035778213 | D12: =LN('51 Stocks with Full data_price'!D13/'51 Stocks with Full data_price'!D12) -> 0.004587164 | E12: =LN('51 Stocks with Full data_price'!E13/'51 Stocks with Full data_price'!E12) -> -0.0045146804 | F12: =LN('51 Stocks with Full data_price'!F13/'51 Stocks with Full data_price'!F12) -> 0.004576667 | G12: =LN('51 Stocks with Full data_price'!G13/'51 Stocks with Full data_price'!G12) -> 0.060920174 | H12: =LN('51 Stocks with Full data_price'!H13/'51 Stocks with Full data_price'!H12) -> 0.077349466 | I12: =LN('51 Stocks with Full data_price'!I13/'51 Stocks with Full data_price'!I12) -> 0 | ... AZ12: =LN('51 Stocks with Full data_price'!AZ13/'51 Stocks with Full data_price'!AZ12) -> -0.0058651195
A13: 38825 | B13: =LN('51 Stocks with Full data_price'!B14/'51 Stocks with Full data_price'!B13) -> 0 | C13: =LN('51 Stocks with Full data_price'!C14/'51 Stocks with Full data_price'!C13) -> 0.024780029 | D13: =LN('51 Stocks with Full data_price'!D14/'51 Stocks with Full data_price'!D13) -> 0 | E13: =LN('51 Stocks with Full data_price'!E14/'51 Stocks with Full data_price'!E13) -> -0.013667639 | F13: =LN('51 Stocks with Full data_price'!F14/'51 Stocks with Full data_price'!F13) -> 0.027028672 | G13: =LN('51 Stocks with Full data_price'!G14/'51 Stocks with Full data_price'!G13) -> 0.0047169899 | H13: =LN('51 Stocks with Full data_price'!H14/'51 Stocks with Full data_price'!H13) -> -0.0097561749 | I13: =LN('51 Stocks with Full data_price'!I14/'51 Stocks with Full data_price'!I13) -> -0.0063091692 | ... AZ13: =LN('51 Stocks with Full data_price'!AZ14/'51 Stocks with Full data_price'!AZ13) -> -0.042048236
... A2087: 41729 | B2087: =LN('51 Stocks with Full data_price'!B2088/'51 Stocks with Full data_price'!B2087) -> 0.005157309 | C2087: =LN('51 Stocks with Full data_price'!C2088/'51 Stocks with Full data_price'!C2087) -> 0 | D2087: =LN('51 Stocks with Full data_price'!D2088/'51 Stocks with Full data_price'!D2087) -> 0.01913934 | E2087: =LN('51 Stocks with Full data_price'!E2088/'51 Stocks with Full data_price'!E2087) -> -0.024501548 | F2087: =LN('51 Stocks with Full data_price'!F2088/'51 Stocks with Full data_price'!F2087) -> 0.010443959 | G2087: =LN('51 Stocks with Full data_price'!G2088/'51 Stocks with Full data_price'!G2087) -> 0.0019900504 | H2087: =LN('51 Stocks with Full data_price'!H2088/'51 Stocks with Full data_price'!H2087) -> -0.012270093 | I2087: =LN('51 Stocks with Full data_price'!I2088/'51 Stocks with Full data_price'!I2087) -> -0.0040650462 | ... AZ2087: =LN('51 Stocks with Full data_price'!AZ2088/'51 Stocks with Full data_price'!AZ2087) -> -0.026705733

Sheet 51 Stocks with Full data_price
A1: DATE | B1: PUDONG | C1: WUHAN | D1: HUAXIA | E1: MINSHENG | F1: BAOSHAN | G1: PLT | H1: CITIC | I1: MERCHANTS | J1: UTDNET | K1: TBEA | L1: SAIC | M1: JIANGXI | N1: GEMDALE | O1: ZHONGJIN | P1: MOUTAI | Q1: GOLDMINING | R1: CHENGDA | S1: GDPWR | T1: HAITONG | U1: YANGTZEPWR | V1: PINGAN | W1: VANKE | X1: MERCHANTS | Y1: INTLMAR | Z1: LINGNAN | AA1: ZTE | AB1: OSCHS | AC1: ZOOMLION | AD1: STRHLDG | AE1: BAIYAO | AF1: HONGYUAN | AG1: LUZHOU | AH1: JILIN | AI1: TONGLING | AJ1: GREE | AK1: HEBEIIRON | AL1: YANJING | AM1: AVIC | AN1: CHANGJIANG | AO1: QINGHAI | AP1: FAWCAR | AQ1: GUOAN | AR1: WULIANGYE | AS1: YUNNANCOPPER | AT1: SHUANGHUI | AU1: HENANCOAL | AV1: JIZHONG | AW1: TINCO | AX1: SHANXICOAL | AY1: HUALAN | AZ1: SUNING
A2: 38807 | B2: 3.53 | C2: 2.66 | D2: 4.65 | E2: 2.04 | F2: 4.2 | G2: 3.88 | H2: 2.54 | I2: 4.6 | J2: 2.7 | K2: 1.49 | L2: 2.68 | M2: 7.63 | N2: 1.86 | O2: 1.93 | P2: 28.3 | Q2: 2.4 | R2: 1.29 | S2: 1.43 | T2: 2.37 | U2: 4.27 | V2: 3.06 | W2: 2.72 | X2: 9.13 | Y2: 6.94 | Z2: 2.58 | AA2: 9.35 | AB2: 2.47 | AC2: 0.88 | AD2: 3.74 | AE2: 14.06 | AF2: 2.26 | AG2: 3.69 | AH2: 2.39 | AI2: 5.46 | AJ2: 2.09 | AK2: 1.89 | AL2: 3.7 | AM2: 1.95 | AN2: 3.18 | AO2: 16.27 | AP2: 3.41 | AQ2: 4.8 | AR2: 4.81 | AS2: 5.71 | AT2: 7.83 | AU2: 2.33 | AV2: 2.72 | AW2: 4.78 | AX2: 2.78 | AY2: 2.12 | AZ2: 1.66
A3: 38810 | B3: 3.53 | C3: 2.66 | D3: 4.65 | E3: 2.14 | F3: 4.24 | G3: 3.97 | H3: 2.67 | I3: 4.79 | J3: 2.7 | K3: 1.64 | L3: 2.72 | M3: 7.63 | N3: 1.86 | O3: 2.12 | P3: 28.3 | Q3: 2.47 | R3: 1.35 | S3: 1.46 | T3: 2.48 | U3: 4.31 | V3: 3.08 | W3: 2.86 | X3: 9.26 | Y3: 6.94 | Z3: 2.84 | AA3: 9.74 | AB3: 2.58 | AC3: 0.92 | AD3: 3.74 | AE3: 14.06 | AF3: 2.26 | AG3: 3.93 | AH3: 2.47 | AI3: 5.69 | AJ3: 2.09 | AK3: 1.89 | AL3: 3.7 | AM3: 1.95 | AN3: 3.18 | AO3: 16.26 | AP3: 3.41 | AQ3: 4.95 | AR3: 5.08 | AS3: 6.13 | AT3: 7.83 | AU3: 2.37 | AV3: 2.82 | AW3: 4.83 | AX3: 2.81 | AY3: 2.28 | AZ3: 1.66
A4: 38811 | B4: 3.53 | C4: 2.68 | D4: 4.65 | E4: 2.16 | F4: 4.25 | G4: 3.92 | H4: 2.74 | I4: 4.94 | J4: 2.7 | K4: 1.74 | L4: 2.71 | M4: 7.63 | N4: 1.86 | O4: 2.08 | P4: 28.3 | Q4: 2.47 | R4: 1.36 | S4: 1.51 | T4: 2.48 | U4: 4.37 | V4: 3.16 | W4: 2.82 | X4: 9.13 | Y4: 6.94 | Z4: 3.06 | AA4: 9.57 | AB4: 2.54 | AC4: 0.98 | AD4: 3.74 | AE4: 14.06 | AF4: 2.26 | AG4: 3.93 | AH4: 2.53 | AI4: 5.7 | AJ4: 2.19 | AK4: 1.89 | AL4: 3.7 | AM4: 1.95 | AN4: 3.22 | AO4: 16.1 | AP4: 3.41 | AQ4: 5.01 | AR4: 5.09 | AS4: 6.15 | AT4: 7.83 | AU4: 2.35 | AV4: 2.83 | AW4: 4.79 | AX4: 2.78 | AY4: 2.33 | AZ4: 1.75
A5: 38812 | B5: 3.53 | C5: 2.68 | D5: 4.65 | E5: 2.17 | F5: 4.28 | G5: 3.98 | H5: 2.71 | I5: 4.94 | J5: 2.7 | K5: 1.7 | L5: 2.74 | M5: 7.63 | N5: 1.86 | O5: 2.11 | P5: 28.3 | Q5: 2.42 | R5: 1.44 | S5: 1.51 | T5: 2.48 | U5: 4.41 | V5: 3.17 | W5: 2.89 | X5: 9.07 | Y5: 6.94 | Z5: 3.11 | AA5: 9.74 | AB5: 2.55 | AC5: 0.98 | AD5: 4.1 | AE5: 14.06 | AF5: 2.26 | AG5: 3.98 | AH5: 2.71 | AI5: 5.8 | AJ5: 2.21 | AK5: 1.88 | AL5: 3.7 | AM5: 1.95 | AN5: 3.18 | AO5: 16.67 | AP5: 3.41 | AQ5: 4.98 | AR5: 5.23 | AS5: 6.41 | AT5: 7.83 | AU5: 2.35 | AV5: 2.82 | AW5: 4.73 | AX5: 2.79 | AY5: 2.33 | AZ5: 1.77
A6: 38813 | B6: 3.53 | C6: 2.65 | D6: 4.41 | E6: 2.12 | F6: 4.25 | G6: 3.98 | H6: 2.72 | I6: 4.87 | J6: 2.7 | K6: 1.77 | L6: 2.75 | M6: 7.63 | N6: 1.86 | O6: 2.26 | P6: 28.3 | Q6: 2.49 | R6: 1.5 | S6: 1.49 | T6: 2.43 | U6: 4.35 | V6: 3.13 | W6: 2.89 | X6: 9.32 | Y6: 6.94 | Z6: 3.42 | AA6: 10 | AB6: 2.8 | AC6: 1.01 | AD6: 4.25 | AE6: 14.06 | AF6: 2.26 | AG6: 4.23 | AH6: 2.74 | AI6: 6.12 | AJ6: 2.18 | AK6: 1.87 | AL6: 3.7 | AM6: 1.95 | AN6: 3.17 | AO6: 16.78 | AP6: 3.41 | AQ6: 5.01 | AR6: 5.63 | AS6: 6.93 | AT6: 7.83 | AU6: 2.31 | AV6: 2.79 | AW6: 4.93 | AX6: 2.79 | AY6: 2.3 | AZ6: 1.77
A7: 38814 | B7: 3.53 | C7: 2.64 | D7: 4.32 | E7: 2.1 | F7: 4.22 | G7: 3.95 | H7: 2.7 | I7: 4.76 | J7: 2.7 | K7: 1.77 | L7: 2.69 | M7: 7.63 | N7: 1.86 | O7: 2.29 | P7: 28.3 | Q7: 2.49 | R7: 1.5 | S7: 1.48 | T7: 2.41 | U7: 4.3 | V7: 3.11 | W7: 2.83 | X7: 9.32 | Y7: 6.94 | Z7: 3.5 | AA7: 9.61 | AB7: 2.85 | AC7: 1.02 | AD7: 4.16 | AE7: 14.06 | AF7: 2.26 | AG7: 4.28 | AH7: 2.72 | AI7: 6.04 | AJ7: 2.2 | AK7: 1.86 | AL7: 3.7 | AM7: 1.95 | AN7: 3.25 | AO7: 16.94 | AP7: 3.41 | AQ7: 5.12 | AR7: 5.58 | AS7: 7.07 | AT7: 7.83 | AU7: 2.25 | AV7: 2.75 | AW7: 4.91 | AX7: 2.67 | AY7: 2.31 | AZ7: 1.77
A8: 38817 | B8: 3.53 | C8: 2.67 | D8: 4.38 | E8: 2.17 | F8: 4.25 | G8: 3.93 | H8: 2.8 | I8: 4.86 | J8: 2.7 | K8: 1.77 | L8: 2.81 | M8: 7.63 | N8: 1.86 | O8: 2.25 | P8: 28.3 | Q8: 2.38 | R8: 1.5 | S8: 1.51 | T8: 2.46 | U8: 4.34 | V8: 3.24 | W8: 2.78 | X8: 8.89 | Y8: 6.94 | Z8: 3.46 | AA8: 9.32 | AB8: 2.85 | AC8: 1.01 | AD8: 4.1 | AE8: 15.46 | AF8: 2.26 | AG8: 4.34 | AH8: 2.77 | AI8: 5.88 | AJ8: 2.32 | AK8: 1.92 | AL8: 3.7 | AM8: 2.15 | AN8: 3.37 | AO8: 16.94 | AP8: 3.41 | AQ8: 5.15 | AR8: 5.49 | AS8: 6.86 | AT8: 7.83 | AU8: 2.4 | AV8: 2.87 | AW8: 4.73 | AX8: 2.79 | AY8: 2.43 | AZ8: 1.78
A9: 38818 | B9: 3.53 | C9: 2.7 | D9: 4.38 | E9: 2.17 | F9: 4.28 | G9: 3.93 | H9: 2.82 | I9: 4.83 | J9: 2.7 | K9: 1.77 | L9: 2.86 | M9: 7.63 | N9: 1.86 | O9: 2.32 | P9: 28.3 | Q9: 2.37 | R9: 1.66 | S9: 1.56 | T9: 2.4 | U9: 4.43 | V9: 3.33 | W9: 2.85 | X9: 8.97 | Y9: 6.94 | Z9: 3.54 | AA9: 9.25 | AB9: 2.87 | AC9: 0.96 | AD9: 4.06 | AE9: 17.01 | AF9: 2.26 | AG9: 4.36 | AH9: 2.94 | AI9: 5.92 | AJ9: 2.35 | AK9: 1.91 | AL9: 3.7 | AM9: 2.36 | AN9: 3.32 | AO9: 16.94 | AP9: 2.99 | AQ9: 5.01 | AR9: 5.43 | AS9: 6.81 | AT9: 7.83 | AU9: 2.54 | AV9: 2.9 | AW9: 4.74 | AX9: 2.83 | AY9: 2.48 | AZ9: 1.78
A10: 38819 | B10: 3.53 | C10: 2.67 | D10: 4.27 | E10: 2.17 | F10: 4.26 | G10: 3.96 | H10: 2.73 | I10: 4.8 | J10: 2.7 | K10: 1.77 | L10: 2.8 | M10: 7.63 | N10: 1.86 | O10: 2.34 | P10: 28.3 | Q10: 2.5 | R10: 1.73 | S10: 1.54 | T10: 2.4 | U10: 4.4 | V10: 3.24 | W10: 2.77 | X10: 8.66 | Y10: 6.94 | Z10: 3.42 | AA10: 9.16 | AB10: 2.76 | AC10: 0.93 | AD10: 3.86 | AE10: 17.08 | AF10: 2.26 | AG10: 4.26 | AH10: 2.96 | AI10: 5.79 | AJ10: 2.28 | AK10: 1.89 | AL10: 3.7 | AM10: 2.5 | AN10: 3.23 | AO10: 16.94 | AP10: 2.94 | AQ10: 4.93 | AR10: 5.48 | AS10: 6.61 | AT10: 7.83 | AU10: 2.51 | AV10: 2.84 | AW10: 4.59 | AX10: 2.8 | AY10: 2.42 | AZ10: 1.76
A11: 38820 | B11: 3.53 | C11: 2.7 | D11: 4.18 | E11: 2.1 | F11: 4.25 | G11: 3.92 | H11: 2.6 | I11: 4.66 | J11: 2.7 | K11: 1.77 | L11: 2.76 | M11: 7.63 | N11: 1.86 | O11: 2.1 | P11: 28.3 | Q11: 2.28 | R11: 1.61 | S11: 1.49 | T11: 2.28 | U11: 4.38 | V11: 3.18 | W11: 2.67 | X11: 8.25 | Y11: 7.64 | Z11: 3.25 | AA11: 9.14 | AB11: 2.66 | AC11: 0.89 | AD11: 3.91 | AE11: 16.91 | AF11: 2.26 | AG11: 3.99 | AH11: 2.76 | AI11: 5.5 | AJ11: 2.19 | AK11: 1.9 | AL11: 3.95 | AM11: 2.35 | AN11: 3.15 | AO11: 16.94 | AP11: 2.97 | AQ11: 4.71 | AR11: 5.26 | AS11: 6.22 | AT11: 7.83 | AU11: 2.36 | AV11: 2.71 | AW11: 4.48 | AX11: 2.63 | AY11: 2.46 | AZ11: 1.68
A12: 38821 | B12: 3.53 | C12: 2.8 | D12: 4.35 | E12: 2.22 | F12: 4.36 | G12: 3.98 | H12: 2.86 | I12: 4.77 | J12: 2.7 | K12: 1.77 | L12: 2.82 | M12: 7.63 | N12: 1.86 | O12: 2.16 | P12: 28.3 | Q12: 2.32 | R12: 1.77 | S12: 1.52 | T12: 2.34 | U12: 4.45 | V12: 3.29 | W12: 2.74 | X12: 8.71 | Y12: 7.96 | Z12: 3.35 | AA12: 9.22 | AB12: 2.67 | AC12: 0.96 | AD12: 3.95 | AE12: 18.58 | AF12: 2.26 | AG12: 4.39 | AH12: 2.95 | AI12: 5.93 | AJ12: 2.31 | AK12: 1.98 | AL12: 3.9 | AM12: 2.43 | AN12: 3.34 | AO12: 16.94 | AP12: 3.03 | AQ12: 4.84 | AR12: 5.54 | AS12: 6.78 | AT12: 7.83 | AU12: 2.41 | AV12: 2.77 | AW12: 4.69 | AX12: 2.68 | AY12: 2.62 | AZ12: 1.71
A13: 38824 | B13: 3.53 | C13: 2.79 | D13: 4.37 | E13: 2.21 | F13: 4.38 | G13: 4.23 | H13: 3.09 | I13: 4.77 | J13: 2.8 | K13: 1.77 | L13: 2.84 | M13: 7.63 | N13: 1.86 | O13: 2.15 | P13: 31.14 | Q13: 2.29 | R13: 1.84 | S13: 1.56 | T13: 2.3 | U13: 4.51 | V13: 3.28 | W13: 2.65 | X13: 8.39 | Y13: 8.76 | Z13: 3.4 | AA13: 8.53 | AB13: 2.64 | AC13: 1.01 | AD13: 3.89 | AE13: 18.81 | AF13: 2.26 | AG13: 4.53 | AH13: 2.96 | AI13: 5.92 | AJ13: 2.27 | AK13: 1.98 | AL13: 3.98 | AM13: 2.52 | AN13: 3.32 | AO13: 16.94 | AP13: 3.06 | AQ13: 4.9 | AR13: 5.51 | AS13: 6.87 | AT13: 7.83 | AU13: 2.38 | AV13: 2.76 | AW13: 4.54 | AX13: 2.64 | AY13: 2.74 | AZ13: 1.7
... A2088: 41729 | B2088: 9.72 | C2088: 2.05 | D2088: 8.44 | E2088: 7.66 | F2088: 3.85 | G2088: 5.03 | H2088: 10.53 | I2088: 9.82 | J2088: 3.06 | K2088: 9.01 | L2088: 13.85 | M2088: 12.39 | N2088: 6.92 | O2088: 8 | P2088: 154.7 | Q2088: 16.74 | R2088: 13.86 | S2088: 2.36 | T2088: 9.24 | U2088: 5.77 | V2088: 10.77 | W2088: 8.09 | X2088: 18.86 | Y2088: 14.69 | Z2088: 5.76 | AA2088: 12.64 | AB2088: 4.61 | AC2088: 4.87 | AD2088: 5.05 | AE2088: 84 | AF2088: 8.22 | AG2088: 17.13 | AH2088: 15.47 | AI2088: 8.92 | AJ2088: 28 | AK2088: 1.93 | AL2088: 6.75 | AM2088: 8.41 | AN2088: 8.19 | AO2088: 14.96 | AP2088: 10.1 | AQ2088: 6.68 | AR2088: 16.67 | AS2088: 6.99 | AT2088: 39.29 | AU2088: 3.77 | AV2088: 6.31 | AW2088: 11.19 | AX2088: 5.22 | AY2088: 25.87 | AZ2088: 7.02
